BEGIN:VCALENDAR
VERSION:2.0
PRODID:-//Mallorca Illusions - ECPv6.15.20//NONSGML v1.0//EN
CALSCALE:GREGORIAN
METHOD:PUBLISH
X-ORIGINAL-URL:https://mallorcaillusions.com
X-WR-CALDESC:Eventos para Mallorca Illusions
REFRESH-INTERVAL;VALUE=DURATION:PT1H
X-Robots-Tag:noindex
X-PUBLISHED-TTL:PT1H
BEGIN:VTIMEZONE
TZID:UTC
BEGIN:STANDARD
TZOFFSETFROM:+0000
TZOFFSETTO:+0000
TZNAME:UTC
DTSTART:20130101T000000
END:STANDARD
END:VTIMEZONE
BEGIN:VEVENT
DTSTART;TZID=UTC:20180101T080000
DTEND;TZID=UTC:20181231T170000
DTSTAMP:20260420T122015
CREATED:20211221T091916Z
LAST-MODIFIED:20211221T091916Z
UID:13347-1514793600-1546275600@mallorcaillusions.com
SUMMARY:DESPEDIAS DE SOLTERAS Y SOLTEROS
DESCRIPTION:Hicimos de cada momento una ilusión
URL:https://mallorcaillusions.com/evento/despedias-de-solteras-y-solteros/
CATEGORIES:Despedidas de solteros/as
ATTACH;FMTTYPE=image/jpeg:https://mallorcaillusions.com/wp-content/uploads/2021/12/cartel-despedida-solteras.jpg
END:VEVENT
BEGIN:VEVENT
DTSTART;VALUE=DATE:20171028
DTEND;VALUE=DATE:20171029
DTSTAMP:20260420T122015
CREATED:20211221T092240Z
LAST-MODIFIED:20211221T092240Z
UID:13353-1509148800-1509235199@mallorcaillusions.com
SUMMARY:GREAT GATSBY PARTY II
DESCRIPTION:2º Fin de semana temático sobre el Great Gatsby y los locos años 20 donde pudimos disfrutar de lo lindo de las clases de Shag\, la fiesta y la gente que se apuntó a disfrutar de lo lindo ilusionadamente ♥
URL:https://mallorcaillusions.com/evento/great-gatsby-party-ii/
CATEGORIES:Party
ATTACH;FMTTYPE=image/jpeg:https://mallorcaillusions.com/wp-content/uploads/2021/12/IMG-20170804-WA0081.jpg
END:VEVENT
BEGIN:VEVENT
DTSTART;VALUE=DATE:20170822
DTEND;VALUE=DATE:20170823
DTSTAMP:20260420T122015
CREATED:20161018T000000Z
LAST-MODIFIED:20211221T085129Z
UID:13057-1503360000-1503446399@mallorcaillusions.com
SUMMARY:Cata de vinos
DESCRIPTION:Cata de vinos de las bodegas mallorquinas Son Prim\, a cargo de Jaume Llabrés\, una jornada que resultó exquisita. \n 
URL:https://mallorcaillusions.com/evento/kids-birthday-party-2/
CATEGORIES:Cata de Vinos
ATTACH;FMTTYPE=image/png:https://mallorcaillusions.com/wp-content/uploads/2016/10/22-de-agosto-2017-724x1024-1.png
END:VEVENT
BEGIN:VEVENT
DTSTART;VALUE=DATE:20170724
DTEND;VALUE=DATE:20170725
DTSTAMP:20260420T122015
CREATED:20211221T092535Z
LAST-MODIFIED:20211221T092535Z
UID:13356-1500854400-1500940799@mallorcaillusions.com
SUMMARY:Los lunes al swing con Mallorca Illusions
DESCRIPTION:Durante julio y agosto hemos celebrado que los lunes pueden ser domingo si los disfrutamos bailando swing. Y lo hemos hecho rodeados de buen rollo y gente estupenda con Dj y conciertos en directo.
URL:https://mallorcaillusions.com/evento/los-lunes-al-swing-con-mallorca-illusions/
CATEGORIES:Swing
ATTACH;FMTTYPE=image/jpeg:https://mallorcaillusions.com/wp-content/uploads/2021/12/♪-724x1024-1.jpg
END:VEVENT
BEGIN:VEVENT
DTSTART;VALUE=DATE:20170622
DTEND;VALUE=DATE:20170623
DTSTAMP:20260420T122015
CREATED:20211221T092745Z
LAST-MODIFIED:20211221T092745Z
UID:13359-1498089600-1498175999@mallorcaillusions.com
SUMMARY:1er Aniversario Citas Express "Soy yo y te busco a ti"
DESCRIPTION:Celebramos nuestro primer aniversario de las citas Express
URL:https://mallorcaillusions.com/evento/1er-aniversario-citas-express-soy-yo-y-te-busco-a-ti/
CATEGORIES:Citas Express
ATTACH;FMTTYPE=image/jpeg:https://mallorcaillusions.com/wp-content/uploads/2021/12/aniversario-citas-22-junio-2017-1-724x1024-1.jpg
END:VEVENT
BEGIN:VEVENT
DTSTART;VALUE=DATE:20170401
DTEND;VALUE=DATE:20170402
DTSTAMP:20260420T122015
CREATED:20211221T093124Z
LAST-MODIFIED:20211221T093124Z
UID:13365-1491004800-1491091199@mallorcaillusions.com
SUMMARY:Palma a través de la història Deixa que n'Albert t'ho conti...
DESCRIPTION:“Un pueblo que no conoce su historia está condenado a repetirla”…(Confuncio) Rutas históricas que nos cuenta Albert Bouzas\, quién es un amante de la historia y que transmite en nuestros paseos organizados\, siendo de gran interés. Si estás interesado en venir a la próxima contacta con Mallorca Illusions
URL:https://mallorcaillusions.com/evento/palma-a-traves-de-la-historia-deixa-que-nalbert-tho-conti/
CATEGORIES:Otros
ATTACH;FMTTYPE=image/jpeg:https://mallorcaillusions.com/wp-content/uploads/2021/12/El-Cesar-a-Ciutat-1-724x1024-1.jpg
END:VEVENT
BEGIN:VEVENT
DTSTART;VALUE=DATE:20170308
DTEND;VALUE=DATE:20170721
DTSTAMP:20260420T122015
CREATED:20161026T000000Z
LAST-MODIFIED:20211221T085254Z
UID:13058-1488931200-1500595199@mallorcaillusions.com
SUMMARY:EL CUMPLEAÑOS QUE TE MERECES
DESCRIPTION:Después de buscar durante meses un lugar ideal y que reuniese todas las condiciones para que el evento fuera estupendo\, nos topamos con el hotel OD de Portals\, fue genial la elección\, el espacio reunía la condiciones para atender a los invitados y el personal de lo mejor que he podido encontrar\, además de una cena buenísima. Contamos con La Movida Band\, Xema González DJ\, Crisitina Torbellina con sus caricaturas en vivo\, Geordi Clowny\, Silvia Fiole y la buena energía de la homenajeada e invitados\, todo un éxito. \n 
URL:https://mallorcaillusions.com/evento/el-cumpleanos-que-te-mereces/
LOCATION:Hotel OD
CATEGORIES:Cumple Años
ATTACH;FMTTYPE=image/png:https://mallorcaillusions.com/wp-content/uploads/2016/10/hacemos-realidad-tu-ilusion.png
END:VEVENT
BEGIN:VEVENT
DTSTART;TZID=UTC:20170304T080000
DTEND;TZID=UTC:20170305T170000
DTSTAMP:20260420T122015
CREATED:20211221T093229Z
LAST-MODIFIED:20211221T093229Z
UID:13368-1488614400-1488733200@mallorcaillusions.com
SUMMARY:3er Lindy Hop Weekend Mallorca 2017
DESCRIPTION:3er Lindy Hop Weekend Mallorca\, realizado con muchísima ilusion y cuidando al máximo hasta el último detalle\, donde la gente quedó muy contenta. Y organizado en el Portblue Pollentia club Resort de Alcudia.
URL:https://mallorcaillusions.com/evento/3er-lindy-hop-weekend-mallorca-2017/
CATEGORIES:Swing
END:VEVENT
BEGIN:VEVENT
DTSTART;VALUE=DATE:20161231
DTEND;VALUE=DATE:20170101
DTSTAMP:20260420T122015
CREATED:20211221T092915Z
LAST-MODIFIED:20211221T095441Z
UID:13362-1483142400-1483228799@mallorcaillusions.com
SUMMARY:Fiesta de Blanco en Zen Club de la Vileta
DESCRIPTION:Noche donde pudimos disfrutar de la cena\, cócteles y música todo en un mismo lugar\, con una esplendida terraza y con la música de el dj Andriu Lladó
URL:https://mallorcaillusions.com/evento/fiesta-de-blanco-en-zen-club-de-la-vileta/
CATEGORIES:Party
ATTACH;FMTTYPE=image/jpeg:https://mallorcaillusions.com/wp-content/uploads/2021/12/WhatsApp-Image-2017-06-19-at-09.11.30-724x1024-1.jpeg
END:VEVENT
BEGIN:VEVENT
DTSTART;VALUE=DATE:20161201
DTEND;VALUE=DATE:20161202
DTSTAMP:20260420T122015
CREATED:20211221T094500Z
LAST-MODIFIED:20211221T094500Z
UID:13385-1480550400-1480636799@mallorcaillusions.com
SUMMARY:Social Media para Cristina Torbellina
DESCRIPTION:Mi trabajo con Cristina\, ha sido desde un primer momento gestionar su ilusión\, empezando con la página de Facebook con una pequeña cantera de seguidores que a día de hoy ya son muchos\, su visibilidad en redes sociales e internet es importante. A día de hoy trabaja con gente de la Isla\, de la península\, Canarias y América. Siendo conocida ya en muchos lugares\, ya que también ha sido fácil porque su producto que es la Ilustración\, es muy interesante y creativo. A partir de eso\, he organizado varias exposiciones a lo largo de estos años.
URL:https://mallorcaillusions.com/evento/social-media-para-cristina-torbellina/
CATEGORIES:Otros
ATTACH;FMTTYPE=image/jpeg:https://mallorcaillusions.com/wp-content/uploads/2021/12/redes_torbellina_1.jpg
END:VEVENT
BEGIN:VEVENT
DTSTART;VALUE=DATE:20161029
DTEND;VALUE=DATE:20161030
DTSTAMP:20260420T122015
CREATED:20211221T093444Z
LAST-MODIFIED:20211221T093444Z
UID:13370-1477699200-1477785599@mallorcaillusions.com
SUMMARY:The Great Gatsby Party
DESCRIPTION:Fiesta temática años 20’s donde el buen gusto y las ganas de pasarlo bien fueron de la mano
URL:https://mallorcaillusions.com/evento/the-great-gatsby-party/
CATEGORIES:Party
ATTACH;FMTTYPE=image/jpeg:https://mallorcaillusions.com/wp-content/uploads/2021/12/14442651_10209682151438076_1987782493_n.jpg
END:VEVENT
BEGIN:VEVENT
DTSTART;VALUE=DATE:20161018
DTEND;VALUE=DATE:20161023
DTSTAMP:20260420T122015
CREATED:20161018T000000Z
LAST-MODIFIED:20161018T000000Z
UID:10803-1476748800-1477180799@mallorcaillusions.com
SUMMARY:Kids’ Birthday Party
DESCRIPTION:Cras dapibus ullamcorper dictum. Vivamus nec erat placerat felis scelerisque porttitor in ac turpis. In nec imperdiet turpis. Suspendisse quis orci ut orci pulvinar eleifend. Nulla eu mattis ipsum. Integer eget sagittis nulla. Praesent consectetur lacus et maximus eleifend. Integer non lacus dui. Mauris tortor diam\, laoreet quis commodo vitae\, sodales vel augue.| Sed rutrum\, libero non pretium tristique\, arcu mi sollicitudin ex\, quis venenatis orci tellus vel dolor. Donec gravida\, dolor ut auctor facilisis\, enim dolor pellentesque lectus\, nec vehicula nibh risus ac leo. Mauris volutpat aliquam tellus nec rhoncus. Aliquam et nibh pulvinar\, sodales nibh et\, pretium urna. Vivamus quam augue\, maximus in consequat imperdiet\, iaculis non nibh. Aliquam erat volutpat. Curabitur venenatis massa sed lacus tristique\, non auctor nisl sodales. Sed ultricies lacus ut libero faucibus fringilla. Ut nisi tellus\, posuere vel mattis nec\, convallis a metus. Nullam elementum molestie felis nec lobortis. Cras at justo eu elit semper tempor sed quis orci. In risus magna\, malesuada vel elementum ut\, finibus et nunc. \n 
URL:https://mallorcaillusions.com/evento/kids-birthday-party/
CATEGORIES:Party
ATTACH;FMTTYPE=image/jpeg:https://mallorcaillusions.com/wp-content/uploads/2016/10/05.jpg
END:VEVENT
BEGIN:VEVENT
DTSTART;VALUE=DATE:20161013
DTEND;VALUE=DATE:20161018
DTSTAMP:20260420T122015
CREATED:20161013T000000Z
LAST-MODIFIED:20161013T000000Z
UID:10801-1476316800-1476748799@mallorcaillusions.com
SUMMARY:Outdoor Party
DESCRIPTION:Cras dapibus ullamcorper dictum. Vivamus nec erat placerat felis scelerisque porttitor in ac turpis. In nec imperdiet turpis. Suspendisse quis orci ut orci pulvinar eleifend. Nulla eu mattis ipsum. Integer eget sagittis nulla. Praesent consectetur lacus et maximus eleifend. Integer non lacus dui. Mauris tortor diam\, laoreet quis commodo vitae\, sodales vel augue.| Sed rutrum\, libero non pretium tristique\, arcu mi sollicitudin ex\, quis venenatis orci tellus vel dolor. Donec gravida\, dolor ut auctor facilisis\, enim dolor pellentesque lectus\, nec vehicula nibh risus ac leo. Mauris volutpat aliquam tellus nec rhoncus. Aliquam et nibh pulvinar\, sodales nibh et\, pretium urna. Vivamus quam augue\, maximus in consequat imperdiet\, iaculis non nibh. Aliquam erat volutpat. Curabitur venenatis massa sed lacus tristique\, non auctor nisl sodales. Sed ultricies lacus ut libero faucibus fringilla. Ut nisi tellus\, posuere vel mattis nec\, convallis a metus. Nullam elementum molestie felis nec lobortis. Cras at justo eu elit semper tempor sed quis orci. In risus magna\, malesuada vel elementum ut\, finibus et nunc. \n 
URL:https://mallorcaillusions.com/evento/outdoor-party/
CATEGORIES:Party
ATTACH;FMTTYPE=image/jpeg:https://mallorcaillusions.com/wp-content/uploads/2016/10/04.jpg
END:VEVENT
BEGIN:VEVENT
DTSTART;VALUE=DATE:20161013
DTEND;VALUE=DATE:20161018
DTSTAMP:20260420T122015
CREATED:20161013T000000Z
LAST-MODIFIED:20161013T000000Z
UID:13056-1476316800-1476748799@mallorcaillusions.com
SUMMARY:Outdoor Party
DESCRIPTION:Cras dapibus ullamcorper dictum. Vivamus nec erat placerat felis scelerisque porttitor in ac turpis. In nec imperdiet turpis. Suspendisse quis orci ut orci pulvinar eleifend. Nulla eu mattis ipsum. Integer eget sagittis nulla. Praesent consectetur lacus et maximus eleifend. Integer non lacus dui. Mauris tortor diam\, laoreet quis commodo vitae\, sodales vel augue.| Sed rutrum\, libero non pretium tristique\, arcu mi sollicitudin ex\, quis venenatis orci tellus vel dolor. Donec gravida\, dolor ut auctor facilisis\, enim dolor pellentesque lectus\, nec vehicula nibh risus ac leo. Mauris volutpat aliquam tellus nec rhoncus. Aliquam et nibh pulvinar\, sodales nibh et\, pretium urna. Vivamus quam augue\, maximus in consequat imperdiet\, iaculis non nibh. Aliquam erat volutpat. Curabitur venenatis massa sed lacus tristique\, non auctor nisl sodales. Sed ultricies lacus ut libero faucibus fringilla. Ut nisi tellus\, posuere vel mattis nec\, convallis a metus. Nullam elementum molestie felis nec lobortis. Cras at justo eu elit semper tempor sed quis orci. In risus magna\, malesuada vel elementum ut\, finibus et nunc. \n 
URL:https://mallorcaillusions.com/evento/outdoor-party-2/
CATEGORIES:Party
ATTACH;FMTTYPE=image/jpeg:https://mallorcaillusions.com/wp-content/uploads/2016/10/04.jpg
END:VEVENT
BEGIN:VEVENT
DTSTART;VALUE=DATE:20161005
DTEND;VALUE=DATE:20161010
DTSTAMP:20260420T122015
CREATED:20161005T000000Z
LAST-MODIFIED:20161005T000000Z
UID:10800-1475625600-1476057599@mallorcaillusions.com
SUMMARY:Costume Party
DESCRIPTION:Cras dapibus ullamcorper dictum. Vivamus nec erat placerat felis scelerisque porttitor in ac turpis. In nec imperdiet turpis. Suspendisse quis orci ut orci pulvinar eleifend. Nulla eu mattis ipsum. Integer eget sagittis nulla. Praesent consectetur lacus et maximus eleifend. Integer non lacus dui. Mauris tortor diam\, laoreet quis commodo vitae\, sodales vel augue.| Sed rutrum\, libero non pretium tristique\, arcu mi sollicitudin ex\, quis venenatis orci tellus vel dolor. Donec gravida\, dolor ut auctor facilisis\, enim dolor pellentesque lectus\, nec vehicula nibh risus ac leo. Mauris volutpat aliquam tellus nec rhoncus. Aliquam et nibh pulvinar\, sodales nibh et\, pretium urna. Vivamus quam augue\, maximus in consequat imperdiet\, iaculis non nibh. Aliquam erat volutpat. Curabitur venenatis massa sed lacus tristique\, non auctor nisl sodales. Sed ultricies lacus ut libero faucibus fringilla. Ut nisi tellus\, posuere vel mattis nec\, convallis a metus. Nullam elementum molestie felis nec lobortis. Cras at justo eu elit semper tempor sed quis orci. In risus magna\, malesuada vel elementum ut\, finibus et nunc. \n 
URL:https://mallorcaillusions.com/evento/costume-party/
CATEGORIES:Party
ATTACH;FMTTYPE=image/jpeg:https://mallorcaillusions.com/wp-content/uploads/2016/10/03.jpg
END:VEVENT
BEGIN:VEVENT
DTSTART;VALUE=DATE:20161005
DTEND;VALUE=DATE:20161010
DTSTAMP:20260420T122015
CREATED:20161005T000000Z
LAST-MODIFIED:20161005T000000Z
UID:13055-1475625600-1476057599@mallorcaillusions.com
SUMMARY:Costume Party
DESCRIPTION:Cras dapibus ullamcorper dictum. Vivamus nec erat placerat felis scelerisque porttitor in ac turpis. In nec imperdiet turpis. Suspendisse quis orci ut orci pulvinar eleifend. Nulla eu mattis ipsum. Integer eget sagittis nulla. Praesent consectetur lacus et maximus eleifend. Integer non lacus dui. Mauris tortor diam\, laoreet quis commodo vitae\, sodales vel augue.| Sed rutrum\, libero non pretium tristique\, arcu mi sollicitudin ex\, quis venenatis orci tellus vel dolor. Donec gravida\, dolor ut auctor facilisis\, enim dolor pellentesque lectus\, nec vehicula nibh risus ac leo. Mauris volutpat aliquam tellus nec rhoncus. Aliquam et nibh pulvinar\, sodales nibh et\, pretium urna. Vivamus quam augue\, maximus in consequat imperdiet\, iaculis non nibh. Aliquam erat volutpat. Curabitur venenatis massa sed lacus tristique\, non auctor nisl sodales. Sed ultricies lacus ut libero faucibus fringilla. Ut nisi tellus\, posuere vel mattis nec\, convallis a metus. Nullam elementum molestie felis nec lobortis. Cras at justo eu elit semper tempor sed quis orci. In risus magna\, malesuada vel elementum ut\, finibus et nunc. \n 
URL:https://mallorcaillusions.com/evento/costume-party-2/
CATEGORIES:Party
ATTACH;FMTTYPE=image/jpeg:https://mallorcaillusions.com/wp-content/uploads/2016/10/03.jpg
END:VEVENT
BEGIN:VEVENT
DTSTART;VALUE=DATE:20160910
DTEND;VALUE=DATE:20160911
DTSTAMP:20260420T122015
CREATED:20211221T093606Z
LAST-MODIFIED:20211221T093606Z
UID:13373-1473465600-1473551999@mallorcaillusions.com
SUMMARY:Swim Wear Party PortBlue Pollentia
DESCRIPTION:Celebrando la fiesta del bañador a la luz de la luna una velada encantadora…con un menú de finger food
URL:https://mallorcaillusions.com/evento/swim-wear-party-portblue-pollentia/
CATEGORIES:Party
ATTACH;FMTTYPE=image/jpeg:https://mallorcaillusions.com/wp-content/uploads/2021/12/14045624_1759279984315052_5855110265168495360_n.jpg
END:VEVENT
BEGIN:VEVENT
DTSTART;VALUE=DATE:20160622
DTEND;VALUE=DATE:20160623
DTSTAMP:20260420T122015
CREATED:20211221T094202Z
LAST-MODIFIED:20211221T094202Z
UID:13379-1466553600-1466639999@mallorcaillusions.com
SUMMARY:Swing Solidario para Associació tardor
DESCRIPTION:Swing Solidario a favor de la Associació tardor\, donde colaboraron: Todos los participantes\, Mokey Doo\, Los Lindies\, Jose Jiménez con Va de Lindy Hop Music y a Joan Llabrés de Oh My Swing DJ
URL:https://mallorcaillusions.com/evento/swing-solidario-para-associacio-tardor/
CATEGORIES:Swing
ATTACH;FMTTYPE=image/jpeg:https://mallorcaillusions.com/wp-content/uploads/2021/12/solidario_web.jpg
END:VEVENT
BEGIN:VEVENT
DTSTART;VALUE=DATE:20160501
DTEND;VALUE=DATE:20160502
DTSTAMP:20260420T122015
CREATED:20211221T094326Z
LAST-MODIFIED:20211221T094326Z
UID:13382-1462060800-1462147199@mallorcaillusions.com
SUMMARY:Exposición Cristina Torbellina Ambigú Bar 2012
DESCRIPTION:Exposición de caricaturas de Cristina Torbellina
URL:https://mallorcaillusions.com/evento/exposicion-cristina-torbellina-ambigu-bar-2012/
CATEGORIES:Otros
ATTACH;FMTTYPE=image/jpeg:https://mallorcaillusions.com/wp-content/uploads/2021/12/expo_cris_1.jpg
END:VEVENT
BEGIN:VEVENT
DTSTART;VALUE=DATE:20160430
DTEND;VALUE=DATE:20160501
DTSTAMP:20260420T122015
CREATED:20211221T094037Z
LAST-MODIFIED:20211221T094037Z
UID:13376-1461974400-1462060799@mallorcaillusions.com
SUMMARY:Palma a través de la historia\, deja que Albert te cuente...
DESCRIPTION:Paseo por Palma a través de la historia que nos fue contando Albert\, donde pudimos disfrutar de anécdotas curiosas de nuestro pasado contadas de una forma que sólo él sabe.
URL:https://mallorcaillusions.com/evento/palma-a-traves-de-la-historia-deja-que-albert-te-cuente/
CATEGORIES:Otros
ATTACH;FMTTYPE=image/jpeg:https://mallorcaillusions.com/wp-content/uploads/2021/12/13059727_10208501337158457_205336951_n.jpg
END:VEVENT
BEGIN:VEVENT
DTSTART;TZID=UTC:20151231T080000
DTEND;TZID=UTC:20151231T170000
DTSTAMP:20260420T122015
CREATED:20211221T094933Z
LAST-MODIFIED:20211221T094933Z
UID:13388-1451548800-1451581200@mallorcaillusions.com
SUMMARY:Social Media para Stecco Natura Olmos
DESCRIPTION:Tarea como Social Media es muy gratificante el trabajar con la Ilusión de unos jóvenes italianos\, que han apostado por Mallorca\, donde día a día están haciendo crecer la primera franquicia de Stecco Natura en España\, publicitar su producto me encanta.
URL:https://mallorcaillusions.com/evento/social-media-para-stecco-natura-olmos/
CATEGORIES:Otros
ATTACH;FMTTYPE=image/jpeg:https://mallorcaillusions.com/wp-content/uploads/2021/12/stecco_1.jpg
END:VEVENT
BEGIN:VEVENT
DTSTART;VALUE=DATE:20151030
DTEND;VALUE=DATE:20151031
DTSTAMP:20260420T122015
CREATED:20211221T095056Z
LAST-MODIFIED:20211221T095056Z
UID:13391-1446163200-1446249599@mallorcaillusions.com
SUMMARY:1er Lindy Hop Weekend Mallorca 2015
DESCRIPTION:Este evento ha sido una de mis mayores Ilusiones\, ya que fue el 1er Lindy Hop Weekend en Mallorca un fin de semana cargado de música y buen ambiente\, donde la gente disfrutó de lo lindo\, quedando con ganas de más.
URL:https://mallorcaillusions.com/evento/1er-lindy-hop-weekend-mallorca-2015/
CATEGORIES:Swing
END:VEVENT
BEGIN:VEVENT
DTSTART;VALUE=DATE:20150808
DTEND;VALUE=DATE:20150809
DTSTAMP:20260420T122015
CREATED:20211221T095227Z
LAST-MODIFIED:20211221T095227Z
UID:13393-1438992000-1439078399@mallorcaillusions.com
SUMMARY:Organización Evento Single
DESCRIPTION:“Soy yo y te busco a Ti” Este evento surgió en la barra del Ambigú en Palma de Mallorca\, medio en broma\, como suelen salir casi todas las Ilusiones más íntimas…Pues organicé un evento precioso\, donde el encuentro fue toda una sorpresa y el desenlace fue encantador. Surgió algún encuentro posterior y alguna amistad interesante…8 minutos a veces es mucho tiempo…
URL:https://mallorcaillusions.com/evento/organizacion-evento-single/
CATEGORIES:Citas Express
ATTACH;FMTTYPE=image/jpeg:https://mallorcaillusions.com/wp-content/uploads/2021/12/eteros-1024x730-1.jpeg
END:VEVENT
BEGIN:VEVENT
DTSTART;VALUE=DATE:20141231
DTEND;VALUE=DATE:20150101
DTSTAMP:20260420T122015
CREATED:20211221T095324Z
LAST-MODIFIED:20211221T095324Z
UID:13396-1419984000-1420070399@mallorcaillusions.com
SUMMARY:Tu illusion
DESCRIPTION:Tu illusion
URL:https://mallorcaillusions.com/evento/tu-illusion/
CATEGORIES:Otros
ATTACH;FMTTYPE=image/png:https://mallorcaillusions.com/wp-content/uploads/2021/12/corazon_ilusion.png
END:VEVENT
END:VCALENDAR